BEGIN:VCALENDAR
VERSION:2.0
PRODID:-//RIGHTHERE//CALENDARIZE IT V3.2//EN
BEGIN:VTIMEZONE
TZID:America/Chicago
X-MICROSOFT-CDO-TZID:11
BEGIN:STANDARD
DTSTART:20251102T070000
TZOFFSETFROM:-0500
TZOFFSETTO:-0600
TZNAME:CST
END:STANDARD
BEGIN:DAYLIGHT
DTSTART:20260308T080000
TZOFFSETFROM:-0600
TZOFFSETTO:-0500
TZNAME:CDT
END:DAYLIGHT
BEGIN:STANDARD
DTSTART:20261101T070000
TZOFFSETFROM:-0500
TZOFFSETTO:-0600
TZNAME:CST
END:STANDARD
END:VTIMEZONE
BEGIN:VEVENT
UID:4374-events@johnknotts-author.com
DTSTART;VALUE=DATE:20190115
DTEND;VALUE=DATE:20190115
DTSTAMP;TZID=America/Chicago:20181227T113331
SUMMARY:Publish Print Version of Overcoming Organizational Myopia
URL:https://johnknotts-author.com/events/publish-print-version-of-overcomin
 g-organizational-myopia/
ORGANIZER;CN=John Knotts:MAILTO:John@johnknotts-author.com
END:VEVENT
END:VCALENDAR